BEGIN:VCALENDAR
VERSION:2.0
PRODID:-//CityChurch Freiburg - ECPv6.1.3//NONSGML v1.0//EN
CALSCALE:GREGORIAN
METHOD:PUBLISH
X-WR-CALNAME:CityChurch Freiburg
X-ORIGINAL-URL:http://www.citychurch-freiburg.de
X-WR-CALDESC:Veranstaltungen für CityChurch Freiburg
REFRESH-INTERVAL;VALUE=DURATION:PT1H
X-Robots-Tag:noindex
X-PUBLISHED-TTL:PT1H
BEGIN:VTIMEZONE
TZID:Europe/Berlin
BEGIN:DAYLIGHT
TZOFFSETFROM:+0100
TZOFFSETTO:+0200
TZNAME:CEST
DTSTART:20260329T010000
END:DAYLIGHT
BEGIN:STANDARD
TZOFFSETFROM:+0200
TZOFFSETTO:+0100
TZNAME:CET
DTSTART:20261025T010000
END:STANDARD
END:VTIMEZONE
BEGIN:VEVENT
DTSTART;TZID=Europe/Berlin:20260425T190000
DTEND;TZID=Europe/Berlin:20260425T220000
DTSTAMP:20260423T132834
CREATED:20250525T115210Z
LAST-MODIFIED:20260421T163521Z
UID:1769-1777143600-1777154400@www.citychurch-freiburg.de
SUMMARY:CityChurch Abendgottesdienst
DESCRIPTION:Ihr Lieben!\nHerzlich willkommen zu unserem Abendgottesdienst in Freiburg. Unser Gottesdienst findet jeden letzten Samstag im Monat um 19 Uhr statt.\nWir freuen uns\, euch alle ganz herzlich einzuladen\, am Samstag um 19 Uhr in die Wentzingerstraße 36 in Freiburg zu kommen.\nMacht gerne auch die Möglichkeit bekannt\, abends Gott und den Glauben kennen\, bzw. besser kennenlernen. Wir freuen uns auf euch!
URL:http://www.citychurch-freiburg.de/event/citychurch-abendgottesdienst-19/
END:VEVENT
BEGIN:VEVENT
DTSTART;TZID=Europe/Berlin:20260429T190000
DTEND;TZID=Europe/Berlin:20260429T220000
DTSTAMP:20260423T132834
CREATED:20260421T163655Z
LAST-MODIFIED:20260421T164438Z
UID:1842-1777489200-1777500000@www.citychurch-freiburg.de
SUMMARY:Zellgruppe (Hauskirche)
DESCRIPTION:Herzlich willkommen in unserer Zellgruppe!\nWir beginnen um 19 Uhr mit einem gemeinsamen Essen (Bring & Share) und freuen uns auf einen anregenden Austausch.\nIm Anschluss werden wir uns mit unserem Glauben beschäftigen und Neues lernen.
URL:http://www.citychurch-freiburg.de/event/citychurch-abendgottesdienst-22/
END:VEVENT
BEGIN:VEVENT
DTSTART;TZID=Europe/Berlin:20260513T190000
DTEND;TZID=Europe/Berlin:20260513T220000
DTSTAMP:20260423T132834
CREATED:20260421T164627Z
LAST-MODIFIED:20260421T164627Z
UID:1846-1778698800-1778709600@www.citychurch-freiburg.de
SUMMARY:Zellgruppe (Hauskirche)
DESCRIPTION:Herzlich willkommen in unserer Zellgruppe!\nWir beginnen um 19 Uhr mit einem gemeinsamen Essen (Bring & Share) und freuen uns auf einen anregenden Austausch.\nIm Anschluss werden wir uns mit unserem Glauben beschäftigen und Neues lernen.
URL:http://www.citychurch-freiburg.de/event/zellgruppe-hauskirche/
END:VEVENT
BEGIN:VEVENT
DTSTART;TZID=Europe/Berlin:20260527T080000
DTEND;TZID=Europe/Berlin:20260527T170000
DTSTAMP:20260423T132834
CREATED:20260421T164758Z
LAST-MODIFIED:20260421T164758Z
UID:1849-1779868800-1779901200@www.citychurch-freiburg.de
SUMMARY:Zellgruppe (Hauskreis)
DESCRIPTION:Herzlich willkommen in unserer Zellgruppe!\nWir beginnen um 19 Uhr mit einem gemeinsamen Essen (Bring & Share) und freuen uns auf einen anregenden Austausch.\nIm Anschluss werden wir uns mit unserem Glauben beschäftigen und Neues lernen.
URL:http://www.citychurch-freiburg.de/event/zellgruppe-hauskreis/
END:VEVENT
BEGIN:VEVENT
DTSTART;TZID=Europe/Berlin:20260530T190000
DTEND;TZID=Europe/Berlin:20260530T220000
DTSTAMP:20260423T132834
CREATED:20260421T164919Z
LAST-MODIFIED:20260421T164919Z
UID:1851-1780167600-1780178400@www.citychurch-freiburg.de
SUMMARY:CityChurch Abendgottesdienst
DESCRIPTION:Ihr Lieben!\nHerzlich willkommen zu unserem Abendgottesdienst in Freiburg. Unser Gottesdienst findet jeden letzten Samstag im Monat um 19 Uhr statt.\nWir freuen uns\, euch alle ganz herzlich einzuladen\, am Samstag um 19 Uhr in die Wentzingerstraße 36 in Freiburg zu kommen.\nMacht gerne auch die Möglichkeit bekannt\, abends Gott und den Glauben kennen\, bzw. besser kennenlernen. Wir freuen uns auf euch!
URL:http://www.citychurch-freiburg.de/event/citychurch-abendgottesdienst-23/
END:VEVENT
END:VCALENDAR